BEGIN:VCALENDAR
VERSION:2.0
PRODID:-//Kesher Nafshi - ECPv6.15.20//NONSGML v1.0//EN
CALSCALE:GREGORIAN
METHOD:PUBLISH
X-WR-CALNAME:Kesher Nafshi
X-ORIGINAL-URL:https://onlinedemoserver6.com/2fi
X-WR-CALDESC:Events for Kesher Nafshi
REFRESH-INTERVAL;VALUE=DURATION:PT1H
X-Robots-Tag:noindex
X-PUBLISHED-TTL:PT1H
BEGIN:VTIMEZONE
TZID:UTC
BEGIN:STANDARD
TZOFFSETFROM:+0000
TZOFFSETTO:+0000
TZNAME:UTC
DTSTART:20250101T000000
END:STANDARD
END:VTIMEZONE
BEGIN:VEVENT
DTSTART;VALUE=DATE:20260101
DTEND;VALUE=DATE:20260105
DTSTAMP:20260422T003445
CREATED:20250917T184120Z
LAST-MODIFIED:20250930T222956Z
UID:1247-1767225600-1767571199@onlinedemoserver6.com
SUMMARY:Kesher Nafshi Shabbaton
DESCRIPTION:Register Now
URL:https://onlinedemoserver6.com/2fi/event/suicide-prevention-workshop/
ATTACH;FMTTYPE=image/jpeg:https://onlinedemoserver6.com/2fi/wp-content/uploads/2025/09/AC9h4nqxuQ1seAELIBOjYmev7F9A2rMi-e1759271151744.jpg
END:VEVENT
END:VCALENDAR