BEGIN:VCALENDAR
VERSION:2.0
PRODID:-//Kesher Nafshi - ECPv6.15.20//NONSGML v1.0//EN
CALSCALE:GREGORIAN
METHOD:PUBLISH
X-WR-CALNAME:Kesher Nafshi
X-ORIGINAL-URL:https://onlinedemoserver6.com/2fi
X-WR-CALDESC:Events for Kesher Nafshi
REFRESH-INTERVAL;VALUE=DURATION:PT1H
X-Robots-Tag:noindex
X-PUBLISHED-TTL:PT1H
BEGIN:VTIMEZONE
TZID:UTC
BEGIN:STANDARD
TZOFFSETFROM:+0000
TZOFFSETTO:+0000
TZNAME:UTC
DTSTART:20240101T000000
END:STANDARD
END:VTIMEZONE
BEGIN:VEVENT
DTSTART;TZID=UTC:20250918T090000
DTEND;TZID=UTC:20250918T160000
DTSTAMP:20260422T003657
CREATED:20250918T194317Z
LAST-MODIFIED:20250919T174419Z
UID:1483-1758186000-1758211200@onlinedemoserver6.com
SUMMARY:Mental Health First Aid Training
DESCRIPTION:Learn essential skills to help someone experiencing a mental health crisis.
URL:https://onlinedemoserver6.com/2fi/event/mental-health-first-aid-training/
ATTACH;FMTTYPE=image/webp:https://onlinedemoserver6.com/2fi/wp-content/uploads/2025/09/Image-6.webp
END:VEVENT
END:VCALENDAR